BEGIN:VCALENDAR
VERSION:2.0
PRODID:-//eventon.com NONSGML v1.0//EN
CALSCALE:GREGORIAN
METHOD:PUBLISH
BEGIN:VEVENT
UID:69e73efdd3ba0
DTSTAMP:20260421T111021
DTSTART:20260304T084500Z
DTEND:20260304T093000Z
TZID:UTC
LOCATION:
SUMMARY:Aqua-Jogging
DESCRIPTION:Schwierigkeit: G-F
URL:https://www.tsg-weinheim.de/events/aqua-jogging-7/
END:VEVENT
END:VCALENDAR