BEGIN:VCALENDAR
VERSION:2.0
PRODID:-//eventon.com NONSGML v1.0//EN
CALSCALE:GREGORIAN
METHOD:PUBLISH
BEGIN:VEVENT
UID:69e73c2f085f5
DTSTAMP:20260421T105823
DTSTART:20260610T084500Z
DTEND:20260610T093000Z
TZID:UTC
LOCATION:
SUMMARY:Aqua-Jogging
DESCRIPTION:Schwierigkeit: G-F
URL:https://www.tsg-weinheim.de/events/aqua-jogging-7/var/ri-14.l-L1
END:VEVENT
END:VCALENDAR