BEGIN:VCALENDAR
VERSION:2.0
PRODID:-//eventon.com NONSGML v1.0//EN
CALSCALE:GREGORIAN
METHOD:PUBLISH
BEGIN:VEVENT
UID:69e909fc73e85
DTSTAMP:20260422T194844
DTSTART:20260701T093500Z
DTEND:20260701T102000Z
TZID:UTC
LOCATION:
SUMMARY:Aqua-Intervall
DESCRIPTION:Schwierigkeit: G-F
URL:https://www.tsg-weinheim.de/events/aqua-intervall/var/ri-17.l-L1
END:VEVENT
END:VCALENDAR