BEGIN:VCALENDAR
VERSION:2.0
PRODID:-//eventon.com NONSGML v1.0//EN
CALSCALE:GREGORIAN
METHOD:PUBLISH
BEGIN:VEVENT
UID:69e6b144aa359
DTSTAMP:20260421T010540
DTSTART:20260422T093500Z
DTEND:20260422T102000Z
TZID:UTC
LOCATION:
SUMMARY:Aqua-Intervall
DESCRIPTION:Schwierigkeit: G-F
URL:https://www.tsg-weinheim.de/events/aqua-intervall/var/ri-7.l-L1
END:VEVENT
END:VCALENDAR