BEGIN:VCALENDAR
VERSION:2.0
PRODID:-//eventon.com NONSGML v1.0//EN
CALSCALE:GREGORIAN
METHOD:PUBLISH
BEGIN:VEVENT
UID:69e73757700f8
DTSTAMP:20260421T103743
DTSTART:20260312T090500Z
DTEND:20260312T095000Z
TZID:UTC
LOCATION:
SUMMARY:Aqua-Gymnastik
DESCRIPTION:Schwierigkeit: G-F
URL:https://www.tsg-weinheim.de/events/aqua-gymnastik-4/
END:VEVENT
END:VCALENDAR