BEGIN:VCALENDAR
VERSION:2.0
PRODID:-//eventon.com NONSGML v1.0//EN
CALSCALE:GREGORIAN
METHOD:PUBLISH
BEGIN:VEVENT
UID:69e71e4b5e9dd
DTSTAMP:20260421T085051
DTSTART:20260611T090500Z
DTEND:20260611T095000Z
TZID:UTC
LOCATION:
SUMMARY:Aqua-Gymnastik
DESCRIPTION:Schwierigkeit: G-F
URL:https://www.tsg-weinheim.de/events/aqua-gymnastik-4/var/ri-13.l-L1
END:VEVENT
END:VCALENDAR