BEGIN:VCALENDAR
VERSION:2.0
PRODID:-//eventon.com NONSGML v1.0//EN
CALSCALE:GREGORIAN
METHOD:PUBLISH
BEGIN:VEVENT
UID:69e5e311e6954
DTSTAMP:20260420T102553
DTSTART:20260730T090500Z
DTEND:20260730T095000Z
TZID:UTC
LOCATION:
SUMMARY:Aqua-Gymnastik
DESCRIPTION:Schwierigkeit: G-F
URL:https://www.tsg-weinheim.de/events/aqua-gymnastik-4/var/ri-20.l-L1
END:VEVENT
END:VCALENDAR