BEGIN:VCALENDAR
VERSION:2.0
PRODID:-//eventon.com NONSGML v1.0//EN
CALSCALE:GREGORIAN
METHOD:PUBLISH
BEGIN:VEVENT
UID:69ed1e1521854
DTSTAMP:20260425T220333
DTSTART:20260430T090500Z
DTEND:20260430T095000Z
TZID:UTC
LOCATION:
SUMMARY:Aqua-Gymnastik
DESCRIPTION:Schwierigkeit: G-F
URL:https://www.tsg-weinheim.de/events/aqua-gymnastik-4/var/ri-7.l-L1
END:VEVENT
END:VCALENDAR